BEGIN:VCALENDAR
PRODID:-//Secretariat of the European Council//SL
VERSION:2.0
METHOD:PUBLISH
BEGIN:VEVENT
DTSTART;TZID=Europe/Brussels:20210905T120000
DTEND;TZID=Europe/Brussels:20210907T150000
ORGANIZER;CN=Ministrstvo za kmetijstvo, gozdarstvo in prehrano
UID:b393b284-e3b2-4f40-96f0-a59cf3f6db59
X-ALT-DESC;FMTTYPE=text/html:<!DOCTYPE HTML PUBLIC "-//W3C//DTD HTML 3.2//EN"><HTML><HEAD>
                                    </HEAD><BODY><span style="font-family: Open Sans;font-size: 9pt;"><p><b>ORGANIZATOR</b><br>Ministrstvo za kmetijstvo, gozdarstvo in prehrano</p><p><b>KRAJ</b><br>Kongresni center Brdo</p><p><b>NASLOV</b><br>Predoslje 39<br>4000 Kranj Kranj<br>Slovenija</p><p><a href="https://goo.gl/maps/cggfqkUwS6wpT9tW6">Kraj</a><hr><br>Dodatne informacije https://slovenian-presidency.consilium.europa.eu/sl/dogodki/zasedanje-posebnega-odbora-za-kmetijstvo/</span></BODY></HTML>
LOCATION:Predoslje 39\,4000 Kranj Kranj\,Slovenija
URL:https://slovenian-presidency.consilium.europa.eu/sl/dogodki/zasedanje-posebnega-odbora-za-kmetijstvo/
SEQUENCE:0
STATUS:CONFIRMED
SUMMARY:Zasedanje Posebnega odbora za kmetijstvo
TRANSP:TRANSPARENT
END:VEVENT
END:VCALENDAR
