BEGIN:VCALENDAR
PRODID:-//Secretariat of the European Council//SL
VERSION:2.0
METHOD:PUBLISH
BEGIN:VEVENT
DTSTART;TZID=Europe/Brussels:20210902T090000
DTEND;TZID=Europe/Brussels:20210903T150000
ORGANIZER;CN=Ministrstvo za javno upravo
UID:25caa905-0fa5-4d7d-b262-90231d5de4ed
X-ALT-DESC;FMTTYPE=text/html:<!DOCTYPE HTML PUBLIC "-//W3C//DTD HTML 3.2//EN"><HTML><HEAD>
                                    </HEAD><BODY><span style="font-family: Open Sans;font-size: 9pt;"><p><b>ORGANIZATOR</b><br>Ministrstvo za javno upravo</p><p><b>KRAJ</b><br>Grad Jable</p><p><b>NASLOV</b><br>Loka pri Mengšu<br>1234 Mengeš Ljubljana<br>Slovenija</p><p><a href="https://goo.gl/maps/8GKXoWwMkW54qXJ4A">Kraj</a><hr><br>Dodatne informacije https://slovenian-presidency.consilium.europa.eu/sl/dogodki/sestanek-svetovalcev-horizontalne-delovne-skupine-za-kibernetska-vprasanja/</span></BODY></HTML>
LOCATION:Loka pri Mengšu\,1234 Mengeš Ljubljana\,Slovenija
URL:https://slovenian-presidency.consilium.europa.eu/sl/dogodki/sestanek-svetovalcev-horizontalne-delovne-skupine-za-kibernetska-vprasanja/
SEQUENCE:0
STATUS:CONFIRMED
SUMMARY:Sestanek svetovalcev horizontalne delovne skupine za kibernetska vprašanja
TRANSP:TRANSPARENT
END:VEVENT
END:VCALENDAR
