BEGIN:VCALENDAR
PRODID:-//Secretariat of the European Council//SL
VERSION:2.0
METHOD:PUBLISH
BEGIN:VEVENT
DTSTART;TZID=Europe/Brussels:20210720T090000
DTEND;TZID=Europe/Brussels:20210721T133000
ORGANIZER;CN=Ministrstvo za finance
UID:b78480dc-234f-443e-924b-784ad455e793
X-ALT-DESC;FMTTYPE=text/html:<!DOCTYPE HTML PUBLIC "-//W3C//DTD HTML 3.2//EN"><HTML><HEAD>
                                    </HEAD><BODY><span style="font-family: Open Sans;font-size: 9pt;"><p><b>ORGANIZATOR</b><br>Ministrstvo za finance</p><p><b>KRAJ</b><br>Grand Hotel Primus</p><p><b>NASLOV</b><br>Pot v Toplice 9 <br>2251 Ptuj Ptuj<br>Slovenija</p><p><a href="https://goo.gl/maps/HxzU3NupQW51rAf17">Kraj</a><hr><br>Dodatne informacije https://slovenian-presidency.consilium.europa.eu/sl/dogodki/seminar-na-visoki-ravni-s-podrocja-davkov-20-21-7/</span></BODY></HTML>
LOCATION:Pot v Toplice 9 \,2251 Ptuj Ptuj\,Slovenija
URL:https://slovenian-presidency.consilium.europa.eu/sl/dogodki/seminar-na-visoki-ravni-s-podrocja-davkov-20-21-7/
SEQUENCE:0
STATUS:CONFIRMED
SUMMARY:Seminar na visoki ravni s področja davkov
TRANSP:TRANSPARENT
END:VEVENT
END:VCALENDAR
