BEGIN:VCALENDAR
PRODID:-//Secretariat of the European Council//SL
VERSION:2.0
METHOD:PUBLISH
BEGIN:VEVENT
DTSTART;TZID=Europe/Brussels:20211123T080000
DTEND;TZID=Europe/Brussels:20211124T170000
ORGANIZER;CN= Ministrstvo za obrambo
UID:620f1878-ed59-45b5-8619-8647edf322c8
X-ALT-DESC;FMTTYPE=text/html:<!DOCTYPE HTML PUBLIC "-//W3C//DTD HTML 3.2//EN"><HTML><HEAD>
                                    </HEAD><BODY><span style="font-family: Open Sans;font-size: 9pt;"><p><b>ORGANIZATOR</b><br> Ministrstvo za obrambo</p><p><b>KRAJ</b><br>Grand Hotel Union</p><p><b>NASLOV</b><br>Miklošičeva cesta 1<br>1000 Ljubljana<br>Slovenija</p><p><a href="https://goo.gl/maps/3RMQhJQbmNfXrZDG8">Kraj</a><hr><br>Dodatne informacije https://slovenian-presidency.consilium.europa.eu/sl/dogodki/osmo-srecanje-nacionalnih-kontaktnih-tock-eu-hibridne-fuzijske-celice/</span></BODY></HTML>
LOCATION:Miklošičeva cesta 1\,1000 Ljubljana\,Slovenija
URL:https://slovenian-presidency.consilium.europa.eu/sl/dogodki/osmo-srecanje-nacionalnih-kontaktnih-tock-eu-hibridne-fuzijske-celice/
SEQUENCE:0
STATUS:CONFIRMED
SUMMARY:Osmo srečanje nacionalnih kontaktnih točk EU: Hibridne fuzijske celice
TRANSP:TRANSPARENT
END:VEVENT
END:VCALENDAR
