BEGIN:VCALENDAR
PRODID:-//Secretariat of the European Council//SL
VERSION:2.0
METHOD:PUBLISH
BEGIN:VEVENT
DTSTART;TZID=Europe/Brussels:20210901T190000
DTEND;TZID=Europe/Brussels:20210902T160000
ORGANIZER;CN=Slovensko predsedovanje
UID:587424aa-5831-47dc-ab99-f378773465a6
X-ALT-DESC;FMTTYPE=text/html:<!DOCTYPE HTML PUBLIC "-//W3C//DTD HTML 3.2//EN"><HTML><HEAD>
                                    </HEAD><BODY><span style="font-family: Open Sans;font-size: 9pt;"><p><b>ORGANIZATOR</b><br>Slovensko predsedovanje</p><p><b>KRAJ</b><br>Kongresni center Brdo</p><p><b>NASLOV</b><br>Predoslje 39<br>4000 Kranj<br>Slovenija</p><p><a href="https://goo.gl/maps/U2Ch8m77Xy6M6uNMA">Kraj</a><hr><br>Dodatne informacije https://slovenian-presidency.consilium.europa.eu/sl/dogodki/neformalno-srecanje-ministrov-in-ministric-za-obrambo-01-02-09/</span></BODY></HTML>
LOCATION:Predoslje 39\,4000 Kranj\,Slovenija
URL:https://slovenian-presidency.consilium.europa.eu/sl/dogodki/neformalno-srecanje-ministrov-in-ministric-za-obrambo-01-02-09/
SEQUENCE:0
STATUS:CONFIRMED
SUMMARY:Neformalno srečanje ministrov in ministric za obrambo Evropske unije
TRANSP:TRANSPARENT
END:VEVENT
END:VCALENDAR
