BEGIN:VCALENDAR
PRODID:-//Secretariat of the European Council//SL
VERSION:2.0
METHOD:PUBLISH
BEGIN:VEVENT
DTSTART;TZID=Europe/Brussels:20210906T100000
DTEND;TZID=Europe/Brussels:20210906T180000
ORGANIZER;CN=Svet Evropske unije
UID:282e0cb4-55b0-4ccf-a593-119892e33bd7
X-ALT-DESC;FMTTYPE=text/html:<!DOCTYPE HTML PUBLIC "-//W3C//DTD HTML 3.2//EN"><HTML><HEAD>
                                    </HEAD><BODY><span style="font-family: Open Sans;font-size: 9pt;"><p><b>ORGANIZATOR</b><br>Svet Evropske unije</p><p><b>NASLOV</b><br>Videozasedanje</p><hr><br>Dodatne informacije https://slovenian-presidency.consilium.europa.eu/sl/dogodki/neformalna-videokonferenca-ministrov-in-ministric-za-ekonomske-in-financne-zadeve-06-09/</span></BODY></HTML>
LOCATION:Videozasedanje
URL:https://slovenian-presidency.consilium.europa.eu/sl/dogodki/neformalna-videokonferenca-ministrov-in-ministric-za-ekonomske-in-financne-zadeve-06-09/
SEQUENCE:0
STATUS:CONFIRMED
SUMMARY:Neformalna videokonferenca ministrov in ministric za ekonomske in finančne zadeve
TRANSP:TRANSPARENT
END:VEVENT
END:VCALENDAR
