BEGIN:VCALENDAR
PRODID:-//Secretariat of the European Council//SL
VERSION:2.0
METHOD:PUBLISH
BEGIN:VEVENT
DTSTART;TZID=Europe/Brussels:20210831T190000
DTEND;TZID=Europe/Brussels:20210902T150000
ORGANIZER;CN=Ministrstvo za notranje zadeve
UID:7121416c-509a-4390-a62d-3bcd572f245e
X-ALT-DESC;FMTTYPE=text/html:<!DOCTYPE HTML PUBLIC "-//W3C//DTD HTML 3.2//EN"><HTML><HEAD>
                                    </HEAD><BODY><span style="font-family: Open Sans;font-size: 9pt;"><p><b>ORGANIZATOR</b><br>Ministrstvo za notranje zadeve</p><p><b>NASLOV</b><br>Ljubljana<br>Slovenija</p><hr><br>Dodatne informacije https://slovenian-presidency.consilium.europa.eu/sl/dogodki/mednarodna-konferenca-evropske-mreze-policijskih-strokovnjakov-za-pogresane-osebe-pen-mp-2021-31-8-2-9/</span></BODY></HTML>
LOCATION:Ljubljana\,Slovenija
URL:https://slovenian-presidency.consilium.europa.eu/sl/dogodki/mednarodna-konferenca-evropske-mreze-policijskih-strokovnjakov-za-pogresane-osebe-pen-mp-2021-31-8-2-9/
SEQUENCE:0
STATUS:CONFIRMED
SUMMARY:Mednarodna konferenca evropske mreže policijskih strokovnjakov za pogrešane osebe (PEN-MP) 2021
TRANSP:TRANSPARENT
END:VEVENT
END:VCALENDAR
