BEGIN:VCALENDAR
PRODID:-//Secretariat of the European Council//SL
VERSION:2.0
METHOD:PUBLISH
BEGIN:VEVENT
DTSTART;TZID=Europe/Brussels:20210924T083000
DTEND;TZID=Europe/Brussels:20210924T170000
ORGANIZER;CN=Ministrstvo za izobraževanje, znanost in šport
UID:e60d5a4a-1162-453e-b0ec-3f8f3f716673
X-ALT-DESC;FMTTYPE=text/html:<!DOCTYPE HTML PUBLIC "-//W3C//DTD HTML 3.2//EN"><HTML><HEAD>
                                    </HEAD><BODY><span style="font-family: Open Sans;font-size: 9pt;"><p><b>ORGANIZATOR</b><br>Ministrstvo za izobraževanje, znanost in šport</p><p><b>KRAJ</b><br>Rikli Balance Hotel</p><p><b>NASLOV</b><br>Cankarjeva cesta 4<br>4260 Bled<br>Slovenija</p><p><a href="https://goo.gl/maps/er1LKp5Vp7BHsJd59">Kraj</a><hr><br>Dodatne informacije https://slovenian-presidency.consilium.europa.eu/sl/dogodki/konferenca-vsezivljenjska-telesna-dejavnost/</span></BODY></HTML>
LOCATION:Cankarjeva cesta 4\,4260 Bled\,Slovenija
URL:https://slovenian-presidency.consilium.europa.eu/sl/dogodki/konferenca-vsezivljenjska-telesna-dejavnost/
SEQUENCE:0
STATUS:CONFIRMED
SUMMARY:Konferenca »Vseživljenjska telesna dejavnost«
TRANSP:TRANSPARENT
END:VEVENT
END:VCALENDAR
