BEGIN:VCALENDAR
PRODID:-//Secretariat of the European Council//SL
VERSION:2.0
METHOD:PUBLISH
BEGIN:VEVENT
DTSTART;TZID=Europe/Brussels:20210902T190000
DTEND;TZID=Europe/Brussels:20210903T163000
ORGANIZER;CN=Urad Vlade RS za informacijsko varnost, Ministrstvo za javno upravo Republike Slovenije, Ministrstvo za zunanje zadeve Republike Slovenije 
UID:1d06d554-013b-477b-9f80-2f659b20b6c3
X-ALT-DESC;FMTTYPE=text/html:<!DOCTYPE HTML PUBLIC "-//W3C//DTD HTML 3.2//EN"><HTML><HEAD>
                                    </HEAD><BODY><span style="font-family: Open Sans;font-size: 9pt;"><p><b>ORGANIZATOR</b><br>Urad Vlade RS za informacijsko varnost, Ministrstvo za javno upravo Republike Slovenije, Ministrstvo za zunanje zadeve Republike Slovenije </p><p><b>NASLOV</b><br>Bled<br>Slovenija</p><hr><br>Dodatne informacije https://slovenian-presidency.consilium.europa.eu/sl/dogodki/konferenca-s-podrocja-kibernetske-varnosti/</span></BODY></HTML>
LOCATION:Bled\,Slovenija
URL:https://slovenian-presidency.consilium.europa.eu/sl/dogodki/konferenca-s-podrocja-kibernetske-varnosti/
SEQUENCE:0
STATUS:CONFIRMED
SUMMARY:Konferenca s področja kibernetske varnosti
TRANSP:TRANSPARENT
END:VEVENT
END:VCALENDAR
