BEGIN:VCALENDAR
PRODID:-//Secretariat of the European Council//SL
VERSION:2.0
METHOD:PUBLISH
BEGIN:VEVENT
DTSTART;TZID=Europe/Brussels:20210830T093000
DTEND;TZID=Europe/Brussels:20210830T130000
ORGANIZER;CN=Svet Evropske unije
UID:b74181da-5291-4715-b404-94d5aa5f19a5
X-ALT-DESC;FMTTYPE=text/html:<!DOCTYPE HTML PUBLIC "-//W3C//DTD HTML 3.2//EN"><HTML><HEAD>
                                    </HEAD><BODY><span style="font-family: Open Sans;font-size: 9pt;"><p><b>ORGANIZATOR</b><br>Svet Evropske unije</p><p><b>KRAJ</b><br>Europa building</p><p><b>NASLOV</b><br>Bruselj<br>Belgija</p><p><a href="https://goo.gl/maps/AfqnFkq279vkU9o1A">Kraj</a><hr><br>Dodatne informacije https://slovenian-presidency.consilium.europa.eu/sl/dogodki/coreper-ii-30-08/</span></BODY></HTML>
LOCATION:Bruselj\,Belgija
URL:https://slovenian-presidency.consilium.europa.eu/sl/dogodki/coreper-ii-30-08/
SEQUENCE:0
STATUS:CONFIRMED
SUMMARY:Coreper II
TRANSP:TRANSPARENT
END:VEVENT
END:VCALENDAR
