BEGIN:VCALENDAR
PRODID:-//Secretariat of the European Council//SL
VERSION:2.0
METHOD:PUBLISH
BEGIN:VEVENT
DTSTART;TZID=Europe/Brussels:20210908T100000
DTEND;TZID=Europe/Brussels:20210908T180000
ORGANIZER;CN=Svet Evropske unije
UID:2a2075f7-2ccc-4dcb-882e-822aed13b820
X-ALT-DESC;FMTTYPE=text/html:<!DOCTYPE HTML PUBLIC "-//W3C//DTD HTML 3.2//EN"><HTML><HEAD>
                                    </HEAD><BODY><span style="font-family: Open Sans;font-size: 9pt;"><p><b>ORGANIZATOR</b><br>Svet Evropske unije</p><p><b>KRAJ</b><br>Europa building</p><p><b>NASLOV</b><br>Rue de la Loi/Wetstraat 175<br>1048 Bruselj<br>Belgija</p><p><a href="https://bit.ly/3nq3Y5j">Kraj</a><hr><br>Dodatne informacije https://slovenian-presidency.consilium.europa.eu/sl/dogodki/coreper-ii-08-09/</span></BODY></HTML>
LOCATION:Rue de la Loi/Wetstraat 175\,1048 Bruselj\,Belgija
URL:https://slovenian-presidency.consilium.europa.eu/sl/dogodki/coreper-ii-08-09/
SEQUENCE:0
STATUS:CONFIRMED
SUMMARY:Coreper II
TRANSP:TRANSPARENT
END:VEVENT
END:VCALENDAR
