BEGIN:VCALENDAR
PRODID:-//Secretariat of the European Council//IT
VERSION:2.0
METHOD:PUBLISH
BEGIN:VEVENT
DTSTART;TZID=Europe/Brussels:20211004T080000
DTEND;TZID=Europe/Brussels:20211005T170000
ORGANIZER;CN=Ministero dell'Ambiente e della Pianificazione Territoriale
UID:e3034f8b-69e5-44e2-99d4-70402ce54aae
X-ALT-DESC;FMTTYPE=text/html:<!DOCTYPE HTML PUBLIC "-//W3C//DTD HTML 3.2//EN"><HTML><HEAD>
                                    </HEAD><BODY><span style="font-family: Open Sans;font-size: 9pt;"><p><b>ORGANIZZAZIONE</b><br>Ministero dell'Ambiente e della Pianificazione Territoriale</p><p><b>INDIRIZZO</b><br>Ljubljana<br>Slovenia</p><hr><br>Per saperne di più https://slovenian-presidency.consilium.europa.eu/it/eventi/sessione-ordinaria-del-gruppo-di-lavoro-presso-la-commissione-europea-eia-sea/</span></BODY></HTML>
LOCATION:Ljubljana\,Slovenia
URL:https://slovenian-presidency.consilium.europa.eu/it/eventi/sessione-ordinaria-del-gruppo-di-lavoro-presso-la-commissione-europea-eia-sea/
SEQUENCE:0
STATUS:CONFIRMED
SUMMARY:Sessione ordinaria del Gruppo di lavoro presso la Commissione europea EIA/SEA
TRANSP:TRANSPARENT
END:VEVENT
END:VCALENDAR
