BEGIN:VCALENDAR
PRODID:-//Secretariat of the European Council//IT
VERSION:2.0
METHOD:PUBLISH
BEGIN:VEVENT
DTSTART;TZID=Europe/Brussels:20211214T080000
DTEND;TZID=Europe/Brussels:20211215T170000
ORGANIZER;CN=Statistical office
UID:aa649e03-f4b5-482c-85d3-458945d41f07
X-ALT-DESC;FMTTYPE=text/html:<!DOCTYPE HTML PUBLIC "-//W3C//DTD HTML 3.2//EN"><HTML><HEAD>
                                    </HEAD><BODY><span style="font-family: Open Sans;font-size: 9pt;"><p><b>ORGANIZZAZIONE</b><br>Statistical office</p><p><b>INDIRIZZO</b><br>Bled<br>Slovenia</p><hr><br>Per saperne di più https://slovenian-presidency.consilium.europa.eu/it/eventi/riunione-ufficiale-per-il-passaggio-di-consegne-dell-ufficio-di-presidenza-ufficio-statistico/</span></BODY></HTML>
LOCATION:Bled\,Slovenia
URL:https://slovenian-presidency.consilium.europa.eu/it/eventi/riunione-ufficiale-per-il-passaggio-di-consegne-dell-ufficio-di-presidenza-ufficio-statistico/
SEQUENCE:0
STATUS:CONFIRMED
SUMMARY:Riunione ufficiale per il passaggio di consegne dell'Ufficio di presidenza (ufficio statistico)
TRANSP:TRANSPARENT
END:VEVENT
END:VCALENDAR
