BEGIN:VCALENDAR
PRODID:-//Secretariat of the European Council//IT
VERSION:2.0
METHOD:PUBLISH
BEGIN:VEVENT
DTSTART;TZID=Europe/Brussels:20211004T080000
DTEND;TZID=Europe/Brussels:20211005T170000
ORGANIZER;CN=Ministero dell'Ambiente e della Pianificazione Territoriale
UID:99cdc14e-7d41-4746-98b6-82f874a31e8d
X-ALT-DESC;FMTTYPE=text/html:<!DOCTYPE HTML PUBLIC "-//W3C//DTD HTML 3.2//EN"><HTML><HEAD>
                                    </HEAD><BODY><span style="font-family: Open Sans;font-size: 9pt;"><p><b>ORGANIZZAZIONE</b><br>Ministero dell'Ambiente e della Pianificazione Territoriale</p><p><b>INDIRIZZO</b><br>Videoconferenza</p><hr><br>Per saperne di più https://slovenian-presidency.consilium.europa.eu/it/eventi/riunione-periodica-del-gruppo-ec-vas-via/</span></BODY></HTML>
LOCATION:Videoconferenza
URL:https://slovenian-presidency.consilium.europa.eu/it/eventi/riunione-periodica-del-gruppo-ec-vas-via/
SEQUENCE:0
STATUS:CONFIRMED
SUMMARY:Riunione periodica del gruppo EC VAS/VIA
TRANSP:TRANSPARENT
END:VEVENT
END:VCALENDAR
