BEGIN:VCALENDAR
PRODID:-//Secretariat of the European Council//IT
VERSION:2.0
METHOD:PUBLISH
BEGIN:VEVENT
DTSTART;TZID=Europe/Brussels:20210705T190000
DTEND;TZID=Europe/Brussels:20210706T163000
ORGANIZER;CN=Ministero delle Infrastrutture 
UID:39dcbf13-6bc5-4468-ae63-6e385b1b22e4
X-ALT-DESC;FMTTYPE=text/html:<!DOCTYPE HTML PUBLIC "-//W3C//DTD HTML 3.2//EN"><HTML><HEAD>
                                    </HEAD><BODY><span style="font-family: Open Sans;font-size: 9pt;"><p><b>ORGANIZZAZIONE</b><br>Ministero delle Infrastrutture </p><p><b>LUOGO</b><br>Kongresni center Brdo</p><p><b>INDIRIZZO</b><br>Predoslje 39<br>4000 Kranj Kranj<br>Slovenia</p><p><a href="https://goo.gl/maps/eRiJdMjqaeHE8j1NA">Luogo</a><hr><br>Per saperne di più https://slovenian-presidency.consilium.europa.eu/it/eventi/riunione-ministeriale-sui-collegamenti-transfrontalieri-tra-l-ue-e-i-balcani-occidentali/</span></BODY></HTML>
LOCATION:Predoslje 39\,4000 Kranj Kranj\,Slovenia
URL:https://slovenian-presidency.consilium.europa.eu/it/eventi/riunione-ministeriale-sui-collegamenti-transfrontalieri-tra-l-ue-e-i-balcani-occidentali/
SEQUENCE:0
STATUS:CONFIRMED
SUMMARY:Riunione ministeriale sui collegamenti transfrontalieri tra l'UE e i Balcani occidentali
TRANSP:TRANSPARENT
END:VEVENT
END:VCALENDAR
