BEGIN:VCALENDAR
PRODID:-//Secretariat of the European Council//IT
VERSION:2.0
METHOD:PUBLISH
BEGIN:VEVENT
DTSTART;TZID=Europe/Brussels:20210927T080000
DTEND;TZID=Europe/Brussels:20210928T200000
ORGANIZER;CN=Ministero della Difesa
UID:554e3606-febb-4c6d-b57a-72fa4d1c103f
X-ALT-DESC;FMTTYPE=text/html:<!DOCTYPE HTML PUBLIC "-//W3C//DTD HTML 3.2//EN"><HTML><HEAD>
                                    </HEAD><BODY><span style="font-family: Open Sans;font-size: 9pt;"><p><b>ORGANIZZAZIONE</b><br>Ministero della Difesa</p><p><b>LUOGO</b><br>Kongresni center Brdo, Elegans hotel </p><p><b>INDIRIZZO</b><br>Predoslje 39<br>4000 Kranj<br>Slovenia</p><p><a href="https://goo.gl/maps/PBgj9TUrRvnjRyxm7">Luogo</a><hr><br>Per saperne di più https://slovenian-presidency.consilium.europa.eu/it/eventi/riunione-informale-del-gruppo-politico-militare-pmg/</span></BODY></HTML>
LOCATION:Predoslje 39\,4000 Kranj\,Slovenia
URL:https://slovenian-presidency.consilium.europa.eu/it/eventi/riunione-informale-del-gruppo-politico-militare-pmg/
SEQUENCE:0
STATUS:CONFIRMED
SUMMARY:Riunione informale del Gruppo politico-militare (PMG)
TRANSP:TRANSPARENT
END:VEVENT
END:VCALENDAR
