BEGIN:VCALENDAR
PRODID:-//Secretariat of the European Council//IT
VERSION:2.0
METHOD:PUBLISH
BEGIN:VEVENT
DTSTART;TZID=Europe/Brussels:20211006T090000
DTEND;TZID=Europe/Brussels:20211008T200000
ORGANIZER;CN=Ministero della Difesa
UID:83b27ec5-4df4-4f50-bcef-8f3da62963be
X-ALT-DESC;FMTTYPE=text/html:<!DOCTYPE HTML PUBLIC "-//W3C//DTD HTML 3.2//EN"><HTML><HEAD>
                                    </HEAD><BODY><span style="font-family: Open Sans;font-size: 9pt;"><p><b>ORGANIZZAZIONE</b><br>Ministero della Difesa</p><p><b>INDIRIZZO</b><br>Postojna <br>Slovenia</p><p><a href="https://goo.gl/maps/28mo22eawdVM8vC39">Luogo</a><hr><br>Per saperne di più https://slovenian-presidency.consilium.europa.eu/it/eventi/riunione-informale-del-gruppo-di-lavoro-del-comitato-militare-eumc-wg-e-del-gruppo-per-gli-obiettivi-di-capacita-htf/</span></BODY></HTML>
LOCATION:Postojna \,Slovenia
URL:https://slovenian-presidency.consilium.europa.eu/it/eventi/riunione-informale-del-gruppo-di-lavoro-del-comitato-militare-eumc-wg-e-del-gruppo-per-gli-obiettivi-di-capacita-htf/
SEQUENCE:0
STATUS:CONFIRMED
SUMMARY:Riunione informale del gruppo di lavoro del Comitato militare (EUMC WG) e del gruppo per gli obiettivi di capacità (HTF)
TRANSP:TRANSPARENT
END:VEVENT
END:VCALENDAR
