BEGIN:VCALENDAR
PRODID:-//Secretariat of the European Council//IT
VERSION:2.0
METHOD:PUBLISH
BEGIN:VEVENT
DTSTART;TZID=Europe/Brussels:20210714T180000
DTEND;TZID=Europe/Brussels:20210716T180000
ORGANIZER;CN=Ministero degli Affari Interni, Ministero della Giustizia 
UID:a277413d-0e92-40a1-8f89-56a2d7df48b4
X-ALT-DESC;FMTTYPE=text/html:<!DOCTYPE HTML PUBLIC "-//W3C//DTD HTML 3.2//EN"><HTML><HEAD>
                                    </HEAD><BODY><span style="font-family: Open Sans;font-size: 9pt;"><p><b>ORGANIZZAZIONE</b><br>Ministero degli Affari Interni, Ministero della Giustizia </p><p><b>LUOGO</b><br>Brdo Congress Centre</p><p><b>INDIRIZZO</b><br>Predoslje 39<br>4000 Kranj<br>Slovenia</p><p><a href="https://goo.gl/maps/U2Ch8m77Xy6M6uNMA">Luogo</a><hr><br>Per saperne di più https://slovenian-presidency.consilium.europa.eu/it/eventi/riunione-informale-dei-ministri-della-giustizia-e-degli-affari-interni-14-16-07/</span></BODY></HTML>
LOCATION:Predoslje 39\,4000 Kranj\,Slovenia
URL:https://slovenian-presidency.consilium.europa.eu/it/eventi/riunione-informale-dei-ministri-della-giustizia-e-degli-affari-interni-14-16-07/
SEQUENCE:0
STATUS:CONFIRMED
SUMMARY:Riunione informale dei ministri della giustizia e degli affari interni
TRANSP:TRANSPARENT
END:VEVENT
END:VCALENDAR
