BEGIN:VCALENDAR
PRODID:-//Secretariat of the European Council//IT
VERSION:2.0
METHOD:PUBLISH
BEGIN:VEVENT
DTSTART;TZID=Europe/Brussels:20210721T180000
DTEND;TZID=Europe/Brussels:20210722T180000
ORGANIZER;CN=Presidenza slovena
UID:de3c61fc-2338-4fa2-99cb-b593cb27aa42
X-ALT-DESC;FMTTYPE=text/html:<!DOCTYPE HTML PUBLIC "-//W3C//DTD HTML 3.2//EN"><HTML><HEAD>
                                    </HEAD><BODY><span style="font-family: Open Sans;font-size: 9pt;"><p><b>ORGANIZZAZIONE</b><br>Presidenza slovena</p><p><b>LUOGO</b><br>Brdo Congress Centre</p><p><b>INDIRIZZO</b><br>Predoslje 39<br>4000 Kranj Kranj<br>Slovenia</p><p><a href="https://goo.gl/maps/U2Ch8m77Xy6M6uNMA">Luogo</a><hr><br>Per saperne di più https://slovenian-presidency.consilium.europa.eu/it/eventi/riunione-informale-dei-ministri-della-competitivita-mercato-interno-e-industria-22-07/</span></BODY></HTML>
LOCATION:Predoslje 39\,4000 Kranj Kranj\,Slovenia
URL:https://slovenian-presidency.consilium.europa.eu/it/eventi/riunione-informale-dei-ministri-della-competitivita-mercato-interno-e-industria-22-07/
SEQUENCE:0
STATUS:CONFIRMED
SUMMARY:Riunione informale dei ministri della competitività (mercato interno e industria)
TRANSP:TRANSPARENT
END:VEVENT
END:VCALENDAR
