BEGIN:VCALENDAR
PRODID:-//Secretariat of the European Council//IT
VERSION:2.0
METHOD:PUBLISH
BEGIN:VEVENT
DTSTART;TZID=Europe/Brussels:20210905T140000
DTEND;TZID=Europe/Brussels:20210907T150000
ORGANIZER;CN=Ministero dell'Agricoltura, delle Foreste e dell'Alimentazione
UID:468f6bea-5cd7-49cd-9e62-72c3ec12e56e
X-ALT-DESC;FMTTYPE=text/html:<!DOCTYPE HTML PUBLIC "-//W3C//DTD HTML 3.2//EN"><HTML><HEAD>
                                    </HEAD><BODY><span style="font-family: Open Sans;font-size: 9pt;"><p><b>ORGANIZZAZIONE</b><br>Ministero dell'Agricoltura, delle Foreste e dell'Alimentazione</p><p><b>LUOGO</b><br>Kongresni center Brdo</p><p><b>INDIRIZZO</b><br>Predoslje 39<br>4000 Kranj<br>Slovenia</p><p><a href="https://goo.gl/maps/U2Ch8m77Xy6M6uNMA">Luogo</a><hr><br>Per saperne di più https://slovenian-presidency.consilium.europa.eu/it/eventi/riunione-informale-dei-ministri-dell-agricoltura-e-della-pesca/</span></BODY></HTML>
LOCATION:Predoslje 39\,4000 Kranj\,Slovenia
URL:https://slovenian-presidency.consilium.europa.eu/it/eventi/riunione-informale-dei-ministri-dell-agricoltura-e-della-pesca/
SEQUENCE:0
STATUS:CONFIRMED
SUMMARY:Riunione informale dei ministri dell'Agricoltura e della pesca
TRANSP:TRANSPARENT
END:VEVENT
END:VCALENDAR
