BEGIN:VCALENDAR
PRODID:-//Secretariat of the European Council//IT
VERSION:2.0
METHOD:PUBLISH
BEGIN:VEVENT
DTSTART;TZID=Europe/Brussels:20210722T180000
DTEND;TZID=Europe/Brussels:20210723T160000
ORGANIZER;CN=Ministero degli Affari Esteri
UID:e4f59226-3741-4b82-bbe5-896ac909f40f
X-ALT-DESC;FMTTYPE=text/html:<!DOCTYPE HTML PUBLIC "-//W3C//DTD HTML 3.2//EN"><HTML><HEAD>
                                    </HEAD><BODY><span style="font-family: Open Sans;font-size: 9pt;"><p><b>ORGANIZZAZIONE</b><br>Ministero degli Affari Esteri</p><p><b>LUOGO</b><br>Brdo Congress Centre</p><p><b>INDIRIZZO</b><br>Predoslje 39<br>4000 Kranj Kranj<br>Slovenia</p><p><a href="https://goo.gl/maps/U2Ch8m77Xy6M6uNMA">Luogo</a><hr><br>Per saperne di più https://slovenian-presidency.consilium.europa.eu/it/eventi/riunione-informale-dei-ministri-degli-affari-europei-23-07/</span></BODY></HTML>
LOCATION:Predoslje 39\,4000 Kranj Kranj\,Slovenia
URL:https://slovenian-presidency.consilium.europa.eu/it/eventi/riunione-informale-dei-ministri-degli-affari-europei-23-07/
SEQUENCE:0
STATUS:CONFIRMED
SUMMARY:Riunione informale dei ministri degli Affari europei
TRANSP:TRANSPARENT
END:VEVENT
END:VCALENDAR
