BEGIN:VCALENDAR
PRODID:-//Secretariat of the European Council//IT
VERSION:2.0
METHOD:PUBLISH
BEGIN:VEVENT
DTSTART;TZID=Europe/Brussels:20210715T080000
DTEND;TZID=Europe/Brussels:20210716T170000
ORGANIZER;CN=Ministero della Difesa
UID:254855f5-4aa6-4c04-b56e-00bb1adbcfc8
X-ALT-DESC;FMTTYPE=text/html:<!DOCTYPE HTML PUBLIC "-//W3C//DTD HTML 3.2//EN"><HTML><HEAD>
                                    </HEAD><BODY><span style="font-family: Open Sans;font-size: 9pt;"><p><b>ORGANIZZAZIONE</b><br>Ministero della Difesa</p><p><b>LUOGO</b><br>Austria Trend Hotel Ljubljana</p><p><b>INDIRIZZO</b><br>Dunajska cesta 154<br>1000 Ljubljana<br>Slovenia</p><p><a href="https://goo.gl/maps/3RRQQ8jTtaByTxj38">Luogo</a><hr><br>Per saperne di più https://slovenian-presidency.consilium.europa.eu/it/eventi/riunione-informale-dei-direttori-della-politica-di-difesa-dell-ue/</span></BODY></HTML>
LOCATION:Dunajska cesta 154\,1000 Ljubljana\,Slovenia
URL:https://slovenian-presidency.consilium.europa.eu/it/eventi/riunione-informale-dei-direttori-della-politica-di-difesa-dell-ue/
SEQUENCE:0
STATUS:CONFIRMED
SUMMARY:Riunione informale dei direttori della politica di difesa dell'UE
TRANSP:TRANSPARENT
END:VEVENT
END:VCALENDAR
