BEGIN:VCALENDAR
PRODID:-//Secretariat of the European Council//IT
VERSION:2.0
METHOD:PUBLISH
BEGIN:VEVENT
DTSTART;TZID=Europe/Brussels:20211005T080000
DTEND;TZID=Europe/Brussels:20211006T170000
ORGANIZER;CN=Ministero degli Affari Interni 
UID:0873d292-99db-490e-82da-865d409311ba
X-ALT-DESC;FMTTYPE=text/html:<!DOCTYPE HTML PUBLIC "-//W3C//DTD HTML 3.2//EN"><HTML><HEAD>
                                    </HEAD><BODY><span style="font-family: Open Sans;font-size: 9pt;"><p><b>ORGANIZZAZIONE</b><br>Ministero degli Affari Interni </p><p><b>INDIRIZZO</b><br>Ljubljana<br>Slovenia</p><hr><br>Per saperne di più https://slovenian-presidency.consilium.europa.eu/it/eventi/riunione-della-rete-europea-sulle-migrazioni-emn/</span></BODY></HTML>
LOCATION:Ljubljana\,Slovenia
URL:https://slovenian-presidency.consilium.europa.eu/it/eventi/riunione-della-rete-europea-sulle-migrazioni-emn/
SEQUENCE:0
STATUS:CONFIRMED
SUMMARY:Riunione della rete europea sulle migrazioni (EMN)
TRANSP:TRANSPARENT
END:VEVENT
END:VCALENDAR
