BEGIN:VCALENDAR
PRODID:-//Secretariat of the European Council//IT
VERSION:2.0
METHOD:PUBLISH
BEGIN:VEVENT
DTSTART;TZID=Europe/Brussels:20210706T080000
DTEND;TZID=Europe/Brussels:20210706T170000
ORGANIZER;CN=Ministero dell'Istruzione, delle Scienze e dello Sport
UID:a5c33b01-eb52-4cb6-aa2a-f4bf57b2307c
X-ALT-DESC;FMTTYPE=text/html:<!DOCTYPE HTML PUBLIC "-//W3C//DTD HTML 3.2//EN"><HTML><HEAD>
                                    </HEAD><BODY><span style="font-family: Open Sans;font-size: 9pt;"><p><b>ORGANIZZAZIONE</b><br>Ministero dell'Istruzione, delle Scienze e dello Sport</p><p><b>INDIRIZZO</b><br>Ljubljana<br>Slovenia</p><hr><br>Per saperne di più https://slovenian-presidency.consilium.europa.eu/it/eventi/riunione-del-gruppo-di-alti-funzionari-per-il-settore-dell-istruzione-e-della-formazione/</span></BODY></HTML>
LOCATION:Ljubljana\,Slovenia
URL:https://slovenian-presidency.consilium.europa.eu/it/eventi/riunione-del-gruppo-di-alti-funzionari-per-il-settore-dell-istruzione-e-della-formazione/
SEQUENCE:0
STATUS:CONFIRMED
SUMMARY:Riunione del gruppo di alti funzionari per il settore dell'istruzione e della formazione
TRANSP:TRANSPARENT
END:VEVENT
END:VCALENDAR
