BEGIN:VCALENDAR
PRODID:-//Secretariat of the European Council//IT
VERSION:2.0
METHOD:PUBLISH
BEGIN:VEVENT
DTSTART;TZID=Europe/Brussels:20211213T190000
DTEND;TZID=Europe/Brussels:20211215T140000
ORGANIZER;CN=Ministero degli Affari Interni
UID:3e85c874-177d-4dde-8681-d9f1295b7a85
X-ALT-DESC;FMTTYPE=text/html:<!DOCTYPE HTML PUBLIC "-//W3C//DTD HTML 3.2//EN"><HTML><HEAD>
                                    </HEAD><BODY><span style="font-family: Open Sans;font-size: 9pt;"><p><b>ORGANIZZAZIONE</b><br>Ministero degli Affari Interni</p><p><b>LUOGO</b><br>JGZ Brdo</p><p><b>INDIRIZZO</b><br>Predoslje 39<br>Kranj<br>Slovenia</p><p><a href="https://goo.gl/maps/kFSnVgxEdutUDyhz7">Luogo</a><hr><br>Per saperne di più https://slovenian-presidency.consilium.europa.eu/it/eventi/riunione-del-consiglio-di-amministrazione-dell-europol/</span></BODY></HTML>
LOCATION:Predoslje 39\,Kranj\,Slovenia
URL:https://slovenian-presidency.consilium.europa.eu/it/eventi/riunione-del-consiglio-di-amministrazione-dell-europol/
SEQUENCE:0
STATUS:CONFIRMED
SUMMARY:Riunione del consiglio di amministrazione dell'Europol
TRANSP:TRANSPARENT
END:VEVENT
END:VCALENDAR
