BEGIN:VCALENDAR
PRODID:-//Secretariat of the European Council//IT
VERSION:2.0
METHOD:PUBLISH
BEGIN:VEVENT
DTSTART;TZID=Europe/Brussels:20211005T090000
DTEND;TZID=Europe/Brussels:20211006T170000
ORGANIZER;CN=Ministero della Salute
UID:4a4bd273-805a-4287-9a5c-9633c6158891
X-ALT-DESC;FMTTYPE=text/html:<!DOCTYPE HTML PUBLIC "-//W3C//DTD HTML 3.2//EN"><HTML><HEAD>
                                    </HEAD><BODY><span style="font-family: Open Sans;font-size: 9pt;"><p><b>ORGANIZZAZIONE</b><br>Ministero della Salute</p><p><b>INDIRIZZO</b><br>Videoconferenza</p><p><a href="https://goo.gl/maps/aLqCd6riBPJT8GGH7">Luogo</a><hr><br>Per saperne di più https://slovenian-presidency.consilium.europa.eu/it/eventi/riunione-dei-rappresentanti-delle-autorita-nazionali-competenti-per-i-dispositivi-medici-camd/</span></BODY></HTML>
LOCATION:Videoconferenza
URL:https://slovenian-presidency.consilium.europa.eu/it/eventi/riunione-dei-rappresentanti-delle-autorita-nazionali-competenti-per-i-dispositivi-medici-camd/
SEQUENCE:0
STATUS:CONFIRMED
SUMMARY:Riunione dei rappresentanti delle autorità nazionali competenti per i dispositivi medici (CAMD)
TRANSP:TRANSPARENT
END:VEVENT
END:VCALENDAR
