BEGIN:VCALENDAR
PRODID:-//Secretariat of the European Council//IT
VERSION:2.0
METHOD:PUBLISH
BEGIN:VEVENT
DTSTART;TZID=Europe/Brussels:20210719T090000
DTEND;TZID=Europe/Brussels:20210719T180000
ORGANIZER;CN=Camera di Stato della Repubblica di Slovenia
UID:b8e6a53e-0d59-4ca7-95f3-941d5a104a51
X-ALT-DESC;FMTTYPE=text/html:<!DOCTYPE HTML PUBLIC "-//W3C//DTD HTML 3.2//EN"><HTML><HEAD>
                                    </HEAD><BODY><span style="font-family: Open Sans;font-size: 9pt;"><p><b>ORGANIZZAZIONE</b><br>Camera di Stato della Repubblica di Slovenia</p><p><b>LUOGO</b><br>Državni zbor</p><p><b>INDIRIZZO</b><br>Šubičeva 4<br>1000  Ljubljana<br>Slovenia</p><p><a href="https://goo.gl/maps/ePskqpCsr9wS2Je98">Luogo</a><hr><br>Per saperne di più https://slovenian-presidency.consilium.europa.eu/it/eventi/riunione-dei-presidenti-della-cosac-conferenza-degli-organi-parlamentari-specializzati-negli-affari-dell-unione-dei-parlamenti-dell-ue/</span></BODY></HTML>
LOCATION:Šubičeva 4\,1000  Ljubljana\,Slovenia
URL:https://slovenian-presidency.consilium.europa.eu/it/eventi/riunione-dei-presidenti-della-cosac-conferenza-degli-organi-parlamentari-specializzati-negli-affari-dell-unione-dei-parlamenti-dell-ue/
SEQUENCE:0
STATUS:CONFIRMED
SUMMARY:Riunione dei Presidenti della COSAC - Conferenza degli organi parlamentari specializzati negli affari dell'Unione dei parlamenti dell'UE
TRANSP:TRANSPARENT
END:VEVENT
END:VCALENDAR
