BEGIN:VCALENDAR
PRODID:-//Secretariat of the European Council//IT
VERSION:2.0
METHOD:PUBLISH
BEGIN:VEVENT
DTSTART;TZID=Europe/Brussels:20211004T080000
DTEND;TZID=Europe/Brussels:20211005T170000
ORGANIZER;CN=Ministero dell'Istruzione, delle Scienze e dello Sport
UID:9530327a-508d-46df-bd54-31647c5fa53b
X-ALT-DESC;FMTTYPE=text/html:<!DOCTYPE HTML PUBLIC "-//W3C//DTD HTML 3.2//EN"><HTML><HEAD>
                                    </HEAD><BODY><span style="font-family: Open Sans;font-size: 9pt;"><p><b>ORGANIZZAZIONE</b><br>Ministero dell'Istruzione, delle Scienze e dello Sport</p><p><b>LUOGO</b><br>Grand Hotel Union</p><p><b>INDIRIZZO</b><br>Miklošičeva cesta 1<br>1000 Ljubljana<br>Slovenia</p><p><a href="https://goo.gl/maps/bhHgzdxFieE8yiGh7">Luogo</a><hr><br>Per saperne di più https://slovenian-presidency.consilium.europa.eu/it/eventi/riunione-dei-direttori-generali-per-l-istruzione-professionale-e-tecnica/</span></BODY></HTML>
LOCATION:Miklošičeva cesta 1\,1000 Ljubljana\,Slovenia
URL:https://slovenian-presidency.consilium.europa.eu/it/eventi/riunione-dei-direttori-generali-per-l-istruzione-professionale-e-tecnica/
SEQUENCE:0
STATUS:CONFIRMED
SUMMARY:Riunione dei direttori generali per l'istruzione professionale e tecnica
TRANSP:TRANSPARENT
END:VEVENT
END:VCALENDAR
