BEGIN:VCALENDAR
PRODID:-//Secretariat of the European Council//IT
VERSION:2.0
METHOD:PUBLISH
BEGIN:VEVENT
DTSTART;TZID=Europe/Brussels:20211213T090000
DTEND;TZID=Europe/Brussels:20211214T132000
ORGANIZER;CN=Ministero della Pubblica Amministrazione
UID:afca0735-6281-43f2-967f-f8647e2e8de6
X-ALT-DESC;FMTTYPE=text/html:<!DOCTYPE HTML PUBLIC "-//W3C//DTD HTML 3.2//EN"><HTML><HEAD>
                                    </HEAD><BODY><span style="font-family: Open Sans;font-size: 9pt;"><p><b>ORGANIZZAZIONE</b><br>Ministero della Pubblica Amministrazione</p><p><b>LUOGO</b><br>Grand Hotel Union</p><p><b>INDIRIZZO</b><br>Miklošičeva ulica 1<br>Ljubljana<br>Slovenia</p><p><a href="https://goo.gl/maps/cYRDn7pD35DbHGwRA">Luogo</a><hr><br>Per saperne di più https://slovenian-presidency.consilium.europa.eu/it/eventi/riunione-dei-direttori-generali-dell-eupan/</span></BODY></HTML>
LOCATION:Miklošičeva ulica 1\,Ljubljana\,Slovenia
URL:https://slovenian-presidency.consilium.europa.eu/it/eventi/riunione-dei-direttori-generali-dell-eupan/
SEQUENCE:0
STATUS:CONFIRMED
SUMMARY:Riunione dei direttori generali dell'EUPAN
TRANSP:TRANSPARENT
END:VEVENT
END:VCALENDAR
