BEGIN:VCALENDAR
PRODID:-//Secretariat of the European Council//IT
VERSION:2.0
METHOD:PUBLISH
BEGIN:VEVENT
DTSTART;TZID=Europe/Brussels:20210902T090000
DTEND;TZID=Europe/Brussels:20210903T150000
ORGANIZER;CN=Ministero della Pubblica Amministrazione
UID:a6ce4719-e157-41e2-8f7e-7e360a6e2783
X-ALT-DESC;FMTTYPE=text/html:<!DOCTYPE HTML PUBLIC "-//W3C//DTD HTML 3.2//EN"><HTML><HEAD>
                                    </HEAD><BODY><span style="font-family: Open Sans;font-size: 9pt;"><p><b>ORGANIZZAZIONE</b><br>Ministero della Pubblica Amministrazione</p><p><b>LUOGO</b><br>Grad Jable</p><p><b>INDIRIZZO</b><br>Loka pri Mengšu<br>1234 Mengeš Ljubljana<br>Slovenia</p><p><a href="https://goo.gl/maps/8GKXoWwMkW54qXJ4A">Luogo</a><hr><br>Per saperne di più https://slovenian-presidency.consilium.europa.eu/it/eventi/riunione-dei-consulenti-del-gruppo-orizzontale-questioni-riguardanti-il-ciberspazio/</span></BODY></HTML>
LOCATION:Loka pri Mengšu\,1234 Mengeš Ljubljana\,Slovenia
URL:https://slovenian-presidency.consilium.europa.eu/it/eventi/riunione-dei-consulenti-del-gruppo-orizzontale-questioni-riguardanti-il-ciberspazio/
SEQUENCE:0
STATUS:CONFIRMED
SUMMARY:Riunione dei consulenti del gruppo orizzontale Questioni riguardanti il ciberspazio
TRANSP:TRANSPARENT
END:VEVENT
END:VCALENDAR
