BEGIN:VCALENDAR
PRODID:-//Secretariat of the European Council//IT
VERSION:2.0
METHOD:PUBLISH
BEGIN:VEVENT
DTSTART;TZID=Europe/Brussels:20210708T090000
DTEND;TZID=Europe/Brussels:20210708T180000
ORGANIZER;CN=Ministero della Salute
UID:03646126-41d9-4b28-9ccb-628b275c61f5
X-ALT-DESC;FMTTYPE=text/html:<!DOCTYPE HTML PUBLIC "-//W3C//DTD HTML 3.2//EN"><HTML><HEAD>
                                    </HEAD><BODY><span style="font-family: Open Sans;font-size: 9pt;"><p><b>ORGANIZZAZIONE</b><br>Ministero della Salute</p><p><b>INDIRIZZO</b><br>Videoconferenza</p><hr><br>Per saperne di più https://slovenian-presidency.consilium.europa.eu/it/eventi/riunione-congiunta-dei-direttori-generali-responsabili-dei-medicinali-degli-stati-membri-dell-ue-e-del-comitato-farmaceutico-8-7/</span></BODY></HTML>
LOCATION:Videoconferenza
URL:https://slovenian-presidency.consilium.europa.eu/it/eventi/riunione-congiunta-dei-direttori-generali-responsabili-dei-medicinali-degli-stati-membri-dell-ue-e-del-comitato-farmaceutico-8-7/
SEQUENCE:0
STATUS:CONFIRMED
SUMMARY:Riunione congiunta dei direttori generali responsabili dei medicinali degli Stati membri dell'UE e del Comitato farmaceutico
TRANSP:TRANSPARENT
END:VEVENT
END:VCALENDAR
