BEGIN:VCALENDAR
PRODID:-//Secretariat of the European Council//IT
VERSION:2.0
METHOD:PUBLISH
BEGIN:VEVENT
DTSTART;TZID=Europe/Brussels:20211004T100000
DTEND;TZID=Europe/Brussels:20211007T180000
ORGANIZER;CN=Parlamento europeo
UID:f988abff-4eab-411a-bc11-febe01a4e97e
X-ALT-DESC;FMTTYPE=text/html:<!DOCTYPE HTML PUBLIC "-//W3C//DTD HTML 3.2//EN"><HTML><HEAD>
                                    </HEAD><BODY><span style="font-family: Open Sans;font-size: 9pt;"><p><b>ORGANIZZAZIONE</b><br>Parlamento europeo</p><p><b>LUOGO</b><br>Louise Weiss building</p><p><b>INDIRIZZO</b><br>1 Avenue du Président Robert Schuman<br>67000 Strasburgo<br>Francia</p><p><a href="https://goo.gl/maps/R3Z8MdR24US7rkEw9">Luogo</a><hr><br>Per saperne di più https://slovenian-presidency.consilium.europa.eu/it/eventi/plenaria-del-parlamento-europeo-04-07-10/</span></BODY></HTML>
LOCATION:1 Avenue du Président Robert Schuman\,67000 Strasburgo\,Francia
URL:https://slovenian-presidency.consilium.europa.eu/it/eventi/plenaria-del-parlamento-europeo-04-07-10/
SEQUENCE:0
STATUS:CONFIRMED
SUMMARY:Plenaria del Parlamento europeo
TRANSP:TRANSPARENT
END:VEVENT
END:VCALENDAR
