BEGIN:VCALENDAR
PRODID:-//Secretariat of the European Council//IT
VERSION:2.0
METHOD:PUBLISH
BEGIN:VEVENT
DTSTART;TZID=Europe/Brussels:20211203T100000
DTEND;TZID=Europe/Brussels:20220109T180000
ORGANIZER;CN=Bozar
UID:445e67d4-d0c1-453d-9d72-1bff551045ac
X-ALT-DESC;FMTTYPE=text/html:<!DOCTYPE HTML PUBLIC "-//W3C//DTD HTML 3.2//EN"><HTML><HEAD>
                                    </HEAD><BODY><span style="font-family: Open Sans;font-size: 9pt;"><p><b>ORGANIZZAZIONE</b><br>Bozar</p><p><b>LUOGO</b><br>Bozar Centre for Fine Arts</p><p><b>INDIRIZZO</b><br>Rue Ravenstein 23 <br>1000 Bruxelles<br>Belgio</p><p><a href="https://goo.gl/maps/JGRQCXmkr543pYhKA">Luogo</a><hr><br>Per saperne di più https://slovenian-presidency.consilium.europa.eu/it/eventi/mostra-premio-starts-21/</span></BODY></HTML>
LOCATION:Rue Ravenstein 23 \,1000 Bruxelles\,Belgio
URL:https://slovenian-presidency.consilium.europa.eu/it/eventi/mostra-premio-starts-21/
SEQUENCE:0
STATUS:CONFIRMED
SUMMARY:Mostra Premio STARTS 21  
TRANSP:TRANSPARENT
END:VEVENT
END:VCALENDAR
