BEGIN:VCALENDAR
PRODID:-//Secretariat of the European Council//IT
VERSION:2.0
METHOD:PUBLISH
BEGIN:VEVENT
DTSTART;TZID=Europe/Brussels:20211005T080000
DTEND;TZID=Europe/Brussels:20211006T170000
ORGANIZER;CN=Ministero dell'Ambiente e della Pianificazione Territoriale
UID:6ff6e286-3327-4a17-a5c1-0f3b862c0ed6
X-ALT-DESC;FMTTYPE=text/html:<!DOCTYPE HTML PUBLIC "-//W3C//DTD HTML 3.2//EN"><HTML><HEAD>
                                    </HEAD><BODY><span style="font-family: Open Sans;font-size: 9pt;"><p><b>ORGANIZZAZIONE</b><br>Ministero dell'Ambiente e della Pianificazione Territoriale</p><p><b>INDIRIZZO</b><br>Ljubljana<br>Slovenia</p><hr><br>Per saperne di più https://slovenian-presidency.consilium.europa.eu/it/eventi/incontro-dei-membri-della-rete-ragni-verdi/</span></BODY></HTML>
LOCATION:Ljubljana\,Slovenia
URL:https://slovenian-presidency.consilium.europa.eu/it/eventi/incontro-dei-membri-della-rete-ragni-verdi/
SEQUENCE:0
STATUS:CONFIRMED
SUMMARY:Incontro dei membri della rete “Ragni verdi”
TRANSP:TRANSPARENT
END:VEVENT
END:VCALENDAR
