BEGIN:VCALENDAR
PRODID:-//Secretariat of the European Council//IT
VERSION:2.0
METHOD:PUBLISH
BEGIN:VEVENT
DTSTART;TZID=Europe/Brussels:20210716T090000
DTEND;TZID=Europe/Brussels:20210725T180000
ORGANIZER;CN=Fondo pubblico della Repubblica di Slovenia per le attività culturali (JSKD)
UID:08570385-057e-4f6e-a504-ca6a32a49e2a
X-ALT-DESC;FMTTYPE=text/html:<!DOCTYPE HTML PUBLIC "-//W3C//DTD HTML 3.2//EN"><HTML><HEAD>
                                    </HEAD><BODY><span style="font-family: Open Sans;font-size: 9pt;"><p><b>ORGANIZZAZIONE</b><br>Fondo pubblico della Repubblica di Slovenia per le attività culturali (JSKD)</p><p><b>INDIRIZZO</b><br>Ljubljana<br>Slovenia</p><hr><br>Per saperne di più https://slovenian-presidency.consilium.europa.eu/it/eventi/festival-corale-internazionale-europa-cantat/</span></BODY></HTML>
LOCATION:Ljubljana\,Slovenia
URL:https://slovenian-presidency.consilium.europa.eu/it/eventi/festival-corale-internazionale-europa-cantat/
SEQUENCE:0
STATUS:CONFIRMED
SUMMARY:Festival corale internazionale Europa Cantat
TRANSP:TRANSPARENT
END:VEVENT
END:VCALENDAR
