BEGIN:VCALENDAR
PRODID:-//Secretariat of the European Council//IT
VERSION:2.0
METHOD:PUBLISH
BEGIN:VEVENT
DTSTART;TZID=Europe/Brussels:20210922T100000
DTEND;TZID=Europe/Brussels:20210922T180000
ORGANIZER;CN=Consiglio dell'UE
UID:2c9bb11a-0079-4659-a2e5-03d0fd82e218
X-ALT-DESC;FMTTYPE=text/html:<!DOCTYPE HTML PUBLIC "-//W3C//DTD HTML 3.2//EN"><HTML><HEAD>
                                    </HEAD><BODY><span style="font-family: Open Sans;font-size: 9pt;"><p><b>ORGANIZZAZIONE</b><br>Consiglio dell'UE</p><p><b>LUOGO</b><br>Europa building</p><p><b>INDIRIZZO</b><br>Rue de la Loi/Wetstraat 175<br>1048 Bruxelles<br>Belgio</p><p><a href="https://bit.ly/3nq3Y5j">Luogo</a><hr><br>Per saperne di più https://slovenian-presidency.consilium.europa.eu/it/eventi/coreper-ii-22-09/</span></BODY></HTML>
LOCATION:Rue de la Loi/Wetstraat 175\,1048 Bruxelles\,Belgio
URL:https://slovenian-presidency.consilium.europa.eu/it/eventi/coreper-ii-22-09/
SEQUENCE:0
STATUS:CONFIRMED
SUMMARY:Coreper II
TRANSP:TRANSPARENT
END:VEVENT
END:VCALENDAR
