BEGIN:VCALENDAR
PRODID:-//Secretariat of the European Council//IT
VERSION:2.0
METHOD:PUBLISH
BEGIN:VEVENT
DTSTART;TZID=Europe/Brussels:20210723T100000
DTEND;TZID=Europe/Brussels:20210723T180000
ORGANIZER;CN=Consiglio dell'Unione europea
UID:f2f841fa-4a11-4ada-8e1f-24a9fd8ce1b8
X-ALT-DESC;FMTTYPE=text/html:<!DOCTYPE HTML PUBLIC "-//W3C//DTD HTML 3.2//EN"><HTML><HEAD>
                                    </HEAD><BODY><span style="font-family: Open Sans;font-size: 9pt;"><p><b>ORGANIZZAZIONE</b><br>Consiglio dell'Unione europea</p><p><b>LUOGO</b><br>Europa Building</p><p><b>INDIRIZZO</b><br>Rue de la Loi/Wetstraat 175<br>1048 Bruxelles<br>Belgio</p><p><a href="https://bit.ly/3nq3Y5j">Luogo</a><hr><br>Per saperne di più https://slovenian-presidency.consilium.europa.eu/it/eventi/coreper-i-23-07/</span></BODY></HTML>
LOCATION:Rue de la Loi/Wetstraat 175\,1048 Bruxelles\,Belgio
URL:https://slovenian-presidency.consilium.europa.eu/it/eventi/coreper-i-23-07/
SEQUENCE:0
STATUS:CONFIRMED
SUMMARY:Coreper I
TRANSP:TRANSPARENT
END:VEVENT
END:VCALENDAR
