BEGIN:VCALENDAR
PRODID:-//Secretariat of the European Council//IT
VERSION:2.0
METHOD:PUBLISH
BEGIN:VEVENT
DTSTART;TZID=Europe/Brussels:20210831T130000
DTEND;TZID=Europe/Brussels:20210831T180000
ORGANIZER;CN=Consiglio dell'Unione europea
UID:030f6347-d2af-49a4-9b5c-3041e1e46fc2
X-ALT-DESC;FMTTYPE=text/html:<!DOCTYPE HTML PUBLIC "-//W3C//DTD HTML 3.2//EN"><HTML><HEAD>
                                    </HEAD><BODY><span style="font-family: Open Sans;font-size: 9pt;"><p><b>ORGANIZZAZIONE</b><br>Consiglio dell'Unione europea</p><p><b>LUOGO</b><br>Europa Building</p><p><b>INDIRIZZO</b><br>Rue de la Loi/Wetstraat 175<br>1048 Bruxelles<br>Belgio</p><p><a href="https://goo.gl/maps/L1uUiTuhGPCmus336">Luogo</a><hr><br>Per saperne di più https://slovenian-presidency.consilium.europa.eu/it/eventi/consiglio-giustizia-e-affari-interni/</span></BODY></HTML>
LOCATION:Rue de la Loi/Wetstraat 175\,1048 Bruxelles\,Belgio
URL:https://slovenian-presidency.consilium.europa.eu/it/eventi/consiglio-giustizia-e-affari-interni/
SEQUENCE:0
STATUS:CONFIRMED
SUMMARY:Consiglio “Giustizia e affari interni”
TRANSP:TRANSPARENT
END:VEVENT
END:VCALENDAR
