BEGIN:VCALENDAR
PRODID:-//Secretariat of the European Council//IT
VERSION:2.0
METHOD:PUBLISH
BEGIN:VEVENT
DTSTART;TZID=Europe/Brussels:20211007T100000
DTEND;TZID=Europe/Brussels:20211008T120000
ORGANIZER;CN=Consiglio dell'Unione europea
UID:303caf8c-53cf-49ae-89aa-c1f91ce4b209
X-ALT-DESC;FMTTYPE=text/html:<!DOCTYPE HTML PUBLIC "-//W3C//DTD HTML 3.2//EN"><HTML><HEAD>
                                    </HEAD><BODY><span style="font-family: Open Sans;font-size: 9pt;"><p><b>ORGANIZZAZIONE</b><br>Consiglio dell'Unione europea</p><p><b>LUOGO</b><br>European Convention Center</p><p><b>INDIRIZZO</b><br>4 Place de l'Europe<br>1499 Lussemburgo<br>Lussemburgo</p><p><a href="https://bit.ly/3nGLzBk">Luogo</a><hr><br>Per saperne di più https://slovenian-presidency.consilium.europa.eu/it/eventi/consiglio-giustizia-e-affari-interni-07-08-10/</span></BODY></HTML>
LOCATION:4 Place de l'Europe\,1499 Lussemburgo\,Lussemburgo
URL:https://slovenian-presidency.consilium.europa.eu/it/eventi/consiglio-giustizia-e-affari-interni-07-08-10/
SEQUENCE:0
STATUS:CONFIRMED
SUMMARY:Consiglio “Giustizia e affari interni”
TRANSP:TRANSPARENT
END:VEVENT
END:VCALENDAR
