BEGIN:VCALENDAR
PRODID:-//Secretariat of the European Council//IT
VERSION:2.0
METHOD:PUBLISH
BEGIN:VEVENT
DTSTART;TZID=Europe/Brussels:20211006T090000
DTEND;TZID=Europe/Brussels:20211006T180000
ORGANIZER;CN=Consiglio dell'Unione europea
UID:0e608920-5eaf-417a-8b56-53d61a24a2a3
X-ALT-DESC;FMTTYPE=text/html:<!DOCTYPE HTML PUBLIC "-//W3C//DTD HTML 3.2//EN"><HTML><HEAD>
                                    </HEAD><BODY><span style="font-family: Open Sans;font-size: 9pt;"><p><b>ORGANIZZAZIONE</b><br>Consiglio dell'Unione europea</p><p><b>LUOGO</b><br>European Convention Center</p><p><b>INDIRIZZO</b><br>4 Place de l'Europe<br>1499 Luxembourg Lussemburgo<br>Lussemburgo</p><p><a href="https://goo.gl/maps/C7ZJPkbgDuV9ouma7">Luogo</a><hr><br>Per saperne di più https://slovenian-presidency.consilium.europa.eu/it/eventi/consiglio-ambiente-6-10/</span></BODY></HTML>
LOCATION:4 Place de l'Europe\,1499 Luxembourg Lussemburgo\,Lussemburgo
URL:https://slovenian-presidency.consilium.europa.eu/it/eventi/consiglio-ambiente-6-10/
SEQUENCE:0
STATUS:CONFIRMED
SUMMARY:Consiglio “Ambiente”
TRANSP:TRANSPARENT
END:VEVENT
END:VCALENDAR
