BEGIN:VCALENDAR
PRODID:-//Secretariat of the European Council//IT
VERSION:2.0
METHOD:PUBLISH
BEGIN:VEVENT
DTSTART;TZID=Europe/Brussels:20210708T080000
DTEND;TZID=Europe/Brussels:20210709T170000
ORGANIZER;CN=Ministero dell'Istruzione, delle Scienze e dello Sport
UID:192c02a8-77b7-4dec-955e-33f165571d35
X-ALT-DESC;FMTTYPE=text/html:<!DOCTYPE HTML PUBLIC "-//W3C//DTD HTML 3.2//EN"><HTML><HEAD>
                                    </HEAD><BODY><span style="font-family: Open Sans;font-size: 9pt;"><p><b>ORGANIZZAZIONE</b><br>Ministero dell'Istruzione, delle Scienze e dello Sport</p><p><b>INDIRIZZO</b><br>Videoconferenza</p><hr><br>Per saperne di più https://slovenian-presidency.consilium.europa.eu/it/eventi/conferenza-rafforzare-lo-spazio-europeo-della-ricerca-ser-e-l-uguaglianza-di-genere/</span></BODY></HTML>
LOCATION:Videoconferenza
URL:https://slovenian-presidency.consilium.europa.eu/it/eventi/conferenza-rafforzare-lo-spazio-europeo-della-ricerca-ser-e-l-uguaglianza-di-genere/
SEQUENCE:0
STATUS:CONFIRMED
SUMMARY:Conferenza "Rafforzare lo Spazio Europeo della Ricerca (SER) e l'uguaglianza di genere"
TRANSP:TRANSPARENT
END:VEVENT
END:VCALENDAR
