BEGIN:VCALENDAR
PRODID:-//Secretariat of the European Council//IT
VERSION:2.0
METHOD:PUBLISH
BEGIN:VEVENT
DTSTART;TZID=Europe/Brussels:20210928T090000
DTEND;TZID=Europe/Brussels:20210928T180000
ORGANIZER;CN=Camera di Stato della Repubblica di Slovenia
UID:b364349b-3db1-4b12-9a55-58451febe249
X-ALT-DESC;FMTTYPE=text/html:<!DOCTYPE HTML PUBLIC "-//W3C//DTD HTML 3.2//EN"><HTML><HEAD>
                                    </HEAD><BODY><span style="font-family: Open Sans;font-size: 9pt;"><p><b>ORGANIZZAZIONE</b><br>Camera di Stato della Repubblica di Slovenia</p><p><b>LUOGO</b><br>Državni zbor</p><p><b>INDIRIZZO</b><br>Šubičeva 4<br>1000 Ljubljana<br>Slovenia</p><p><a href="https://goo.gl/maps/ePskqpCsr9wS2Je98">Luogo</a><hr><br>Per saperne di più https://slovenian-presidency.consilium.europa.eu/it/eventi/conferenza-interparlamentare-sulla-stabilita-il-coordinamento-economico-e-la-governance-nell-unione-europea/</span></BODY></HTML>
LOCATION:Šubičeva 4\,1000 Ljubljana\,Slovenia
URL:https://slovenian-presidency.consilium.europa.eu/it/eventi/conferenza-interparlamentare-sulla-stabilita-il-coordinamento-economico-e-la-governance-nell-unione-europea/
SEQUENCE:0
STATUS:CONFIRMED
SUMMARY:Conferenza interparlamentare sulla  stabilità, il coordinamento economico e la governance nell'Unione europea
TRANSP:TRANSPARENT
END:VEVENT
END:VCALENDAR
