BEGIN:VCALENDAR
PRODID:-//Secretariat of the European Council//IT
VERSION:2.0
METHOD:PUBLISH
BEGIN:VEVENT
DTSTART;TZID=Europe/Brussels:20210909T090000
DTEND;TZID=Europe/Brussels:20210909T180000
ORGANIZER;CN=Camera di Stato della Repubblica di Slovenia
UID:d4163e2a-e905-4ffe-9c7b-edeb3c5fcb7d
X-ALT-DESC;FMTTYPE=text/html:<!DOCTYPE HTML PUBLIC "-//W3C//DTD HTML 3.2//EN"><HTML><HEAD>
                                    </HEAD><BODY><span style="font-family: Open Sans;font-size: 9pt;"><p><b>ORGANIZZAZIONE</b><br>Camera di Stato della Repubblica di Slovenia</p><p><b>INDIRIZZO</b><br>Videoconferenza</p><hr><br>Per saperne di più https://slovenian-presidency.consilium.europa.eu/it/eventi/conferenza-interparlamentare-sulla-politica-estera-e-di-sicurezza-comune-e-la-politica-di-sicurezza-e-difesa-comune/</span></BODY></HTML>
LOCATION:Videoconferenza
URL:https://slovenian-presidency.consilium.europa.eu/it/eventi/conferenza-interparlamentare-sulla-politica-estera-e-di-sicurezza-comune-e-la-politica-di-sicurezza-e-difesa-comune/
SEQUENCE:0
STATUS:CONFIRMED
SUMMARY:Conferenza interparlamentare sulla Politica estera e di Sicurezza comune e la Politica di Sicurezza e Difesa comune
TRANSP:TRANSPARENT
END:VEVENT
END:VCALENDAR
