BEGIN:VCALENDAR
PRODID:-//Secretariat of the European Council//IT
VERSION:2.0
METHOD:PUBLISH
BEGIN:VEVENT
DTSTART;TZID=Europe/Brussels:20210926T080000
DTEND;TZID=Europe/Brussels:20210930T170000
ORGANIZER;CN=Ministero dell'Istruzione, delle Scienze e dello Sport
UID:b8f512ce-7914-41db-b087-63e38cd60aeb
X-ALT-DESC;FMTTYPE=text/html:<!DOCTYPE HTML PUBLIC "-//W3C//DTD HTML 3.2//EN"><HTML><HEAD>
                                    </HEAD><BODY><span style="font-family: Open Sans;font-size: 9pt;"><p><b>ORGANIZZAZIONE</b><br>Ministero dell'Istruzione, delle Scienze e dello Sport</p><p><b>INDIRIZZO</b><br>Videoconferenza</p><hr><br>Per saperne di più https://slovenian-presidency.consilium.europa.eu/it/eventi/conferenza-europea-della-gioventu-eu-youth-conference/</span></BODY></HTML>
LOCATION:Videoconferenza
URL:https://slovenian-presidency.consilium.europa.eu/it/eventi/conferenza-europea-della-gioventu-eu-youth-conference/
SEQUENCE:0
STATUS:CONFIRMED
SUMMARY:Conferenza europea della gioventù - EU Youth Conference
TRANSP:TRANSPARENT
END:VEVENT
END:VCALENDAR
