BEGIN:VCALENDAR
PRODID:-//Secretariat of the European Council//IT
VERSION:2.0
METHOD:PUBLISH
BEGIN:VEVENT
DTSTART;TZID=Europe/Brussels:20211007T090000
DTEND;TZID=Europe/Brussels:20211007T170000
ORGANIZER;CN=Ministero del Lavoro, della Famiglia, degli Affari Sociali e delle Pari Opportunità
UID:5f3d4ef2-eb6f-41f4-bee7-c6038bb32e48
X-ALT-DESC;FMTTYPE=text/html:<!DOCTYPE HTML PUBLIC "-//W3C//DTD HTML 3.2//EN"><HTML><HEAD>
                                    </HEAD><BODY><span style="font-family: Open Sans;font-size: 9pt;"><p><b>ORGANIZZAZIONE</b><br>Ministero del Lavoro, della Famiglia, degli Affari Sociali e delle Pari Opportunità</p><p><b>INDIRIZZO</b><br>Videoconferenza</p><hr><br>Per saperne di più https://slovenian-presidency.consilium.europa.eu/it/eventi/conferenza-di-alto-livello-lavoro-di-qualita-per-una-vita-di-qualita/</span></BODY></HTML>
LOCATION:Videoconferenza
URL:https://slovenian-presidency.consilium.europa.eu/it/eventi/conferenza-di-alto-livello-lavoro-di-qualita-per-una-vita-di-qualita/
SEQUENCE:0
STATUS:CONFIRMED
SUMMARY:Conferenza di alto livello "Lavoro di qualità per una vita di qualità"
TRANSP:TRANSPARENT
END:VEVENT
END:VCALENDAR
