BEGIN:VCALENDAR
PRODID:-//Secretariat of the European Council//IT
VERSION:2.0
METHOD:PUBLISH
BEGIN:VEVENT
DTSTART;TZID=Europe/Brussels:20210715T120000
DTEND;TZID=Europe/Brussels:20210716T123000
ORGANIZER;CN=Ministero della Salute
UID:b38d5f27-7430-4753-ad33-3c75f5c390ed
X-ALT-DESC;FMTTYPE=text/html:<!DOCTYPE HTML PUBLIC "-//W3C//DTD HTML 3.2//EN"><HTML><HEAD>
                                    </HEAD><BODY><span style="font-family: Open Sans;font-size: 9pt;"><p><b>ORGANIZZAZIONE</b><br>Ministero della Salute</p><p><b>INDIRIZZO</b><br>Videoconferenza</p><hr><br>Per saperne di più https://slovenian-presidency.consilium.europa.eu/it/eventi/conferenza-di-alto-livello-implementazione-delle-soluzioni-innovative-per-i-sistemi-sanitari-resistenti-15-7/</span></BODY></HTML>
LOCATION:Videoconferenza
URL:https://slovenian-presidency.consilium.europa.eu/it/eventi/conferenza-di-alto-livello-implementazione-delle-soluzioni-innovative-per-i-sistemi-sanitari-resistenti-15-7/
SEQUENCE:0
STATUS:CONFIRMED
SUMMARY:Conferenza di alto livello - implementazione delle soluzioni innovative per i sistemi sanitari resistenti 
TRANSP:TRANSPARENT
END:VEVENT
END:VCALENDAR
