BEGIN:VCALENDAR
PRODID:-//Secretariat of the European Council//IT
VERSION:2.0
METHOD:PUBLISH
BEGIN:VEVENT
DTSTART;TZID=Europe/Brussels:20210928T100000
DTEND;TZID=Europe/Brussels:20210928T180000
ORGANIZER;CN=Consiglio dell'Unione europea
UID:0a7bb005-4e4a-4c58-8481-a0e15b7e9671
X-ALT-DESC;FMTTYPE=text/html:<!DOCTYPE HTML PUBLIC "-//W3C//DTD HTML 3.2//EN"><HTML><HEAD>
                                    </HEAD><BODY><span style="font-family: Open Sans;font-size: 9pt;"><p><b>ORGANIZZAZIONE</b><br>Consiglio dell'Unione europea</p><p><b>LUOGO</b><br>Justus Lipsius</p><p><b>INDIRIZZO</b><br>Rue de la Loi/Wetstraat 175 <br>1048 Bruxelles<br>Belgio</p><p><a href="https://bit.ly/3eBdoag">Luogo</a><hr><br>Per saperne di più https://slovenian-presidency.consilium.europa.eu/it/eventi/comitato-politico-e-di-sicurezza-28-09/</span></BODY></HTML>
LOCATION:Rue de la Loi/Wetstraat 175 \,1048 Bruxelles\,Belgio
URL:https://slovenian-presidency.consilium.europa.eu/it/eventi/comitato-politico-e-di-sicurezza-28-09/
SEQUENCE:0
STATUS:CONFIRMED
SUMMARY:Comitato politico e di sicurezza 
TRANSP:TRANSPARENT
END:VEVENT
END:VCALENDAR
