BEGIN:VCALENDAR
PRODID:-//Secretariat of the European Council//IT
VERSION:2.0
METHOD:PUBLISH
BEGIN:VEVENT
DTSTART;TZID=Europe/Brussels:20210701T090000
DTEND;TZID=Europe/Brussels:20210701T180000
ORGANIZER;CN=SNG Maribor
UID:de8f7eed-e8fc-45b9-a78c-a334411a1ee5
X-ALT-DESC;FMTTYPE=text/html:<!DOCTYPE HTML PUBLIC "-//W3C//DTD HTML 3.2//EN"><HTML><HEAD>
                                    </HEAD><BODY><span style="font-family: Open Sans;font-size: 9pt;"><p><b>ORGANIZZAZIONE</b><br>SNG Maribor</p><p><b>LUOGO</b><br>Blejski otok</p><p><b>INDIRIZZO</b><br>Bled<br>Slovenia</p><p><a href="https://goo.gl/maps/2KW1qfV1GCYukzV88">Luogo</a><hr><br>Per saperne di più https://slovenian-presidency.consilium.europa.eu/it/eventi/balletto-moderno-povodni-moz-l-uomo-delle-acque/</span></BODY></HTML>
LOCATION:Bled\,Slovenia
URL:https://slovenian-presidency.consilium.europa.eu/it/eventi/balletto-moderno-povodni-moz-l-uomo-delle-acque/
SEQUENCE:0
STATUS:CONFIRMED
SUMMARY:Balletto moderno Povodni mož (L'uomo delle acque)
TRANSP:TRANSPARENT
END:VEVENT
END:VCALENDAR
