BEGIN:VCALENDAR
PRODID:-//Secretariat of the European Council//HU
VERSION:2.0
METHOD:PUBLISH
BEGIN:VEVENT
DTSTART;TZID=Europe/Brussels:20210720T100000
DTEND;TZID=Europe/Brussels:20210720T180000
ORGANIZER;CN=Az Európai Unió Tanácsa
UID:90c1efd9-79ac-43ad-ac74-a1faface89fe
X-ALT-DESC;FMTTYPE=text/html:<!DOCTYPE HTML PUBLIC "-//W3C//DTD HTML 3.2//EN"><HTML><HEAD>
                                    </HEAD><BODY><span style="font-family: Open Sans;font-size: 9pt;"><p><b>SZERVEZŐ</b><br>Az Európai Unió Tanácsa</p><p><b>HELYSZÍN</b><br>Justus Lipsius</p><p><b>CÍM</b><br>Rue de la Loi/Wetstraat 175 <br>1048 Brüsszel<br>Belgium</p><p><a href="https://bit.ly/3eBdoag">Helyszín</a><hr><br>bővebben https://slovenian-presidency.consilium.europa.eu/hu/esemenyek/politikai-es-biztonsagi-bizottsag-20-07/</span></BODY></HTML>
LOCATION:Rue de la Loi/Wetstraat 175 \,1048 Brüsszel\,Belgium
URL:https://slovenian-presidency.consilium.europa.eu/hu/esemenyek/politikai-es-biztonsagi-bizottsag-20-07/
SEQUENCE:0
STATUS:CONFIRMED
SUMMARY:Politikai és Biztonsági Bizottság 
TRANSP:TRANSPARENT
END:VEVENT
END:VCALENDAR
