BEGIN:VCALENDAR
PRODID:-//Secretariat of the European Council//HU
VERSION:2.0
METHOD:PUBLISH
BEGIN:VEVENT
DTSTART;TZID=Europe/Brussels:20210909T090000
DTEND;TZID=Europe/Brussels:20210909T180000
ORGANIZER;CN=A Szlovén Köztársaság Országgyűlése
UID:a003e71f-79ae-4e44-8dd8-2b12cba1471f
X-ALT-DESC;FMTTYPE=text/html:<!DOCTYPE HTML PUBLIC "-//W3C//DTD HTML 3.2//EN"><HTML><HEAD>
                                    </HEAD><BODY><span style="font-family: Open Sans;font-size: 9pt;"><p><b>SZERVEZŐ</b><br>A Szlovén Köztársaság Országgyűlése</p><p><b>CÍM</b><br>Videó konferencia</p><hr><br>bővebben https://slovenian-presidency.consilium.europa.eu/hu/esemenyek/parlamentkozi-konferencia-a-kozos-kul-es-biztonsagpolitikarol-valamint-a-kozos-biztonsag-es-vedelempolitikarol/</span></BODY></HTML>
LOCATION:Videó konferencia
URL:https://slovenian-presidency.consilium.europa.eu/hu/esemenyek/parlamentkozi-konferencia-a-kozos-kul-es-biztonsagpolitikarol-valamint-a-kozos-biztonsag-es-vedelempolitikarol/
SEQUENCE:0
STATUS:CONFIRMED
SUMMARY:Parlamentközi konferencia a közös kül és biztonságpolitikáról, valamint a közös biztonság és védelempolitikáról
TRANSP:TRANSPARENT
END:VEVENT
END:VCALENDAR
